BEGIN:VCALENDAR
VERSION:2.0
PRODID:-//Protestantse Gemeente Roermond - ECPv6.15.20//NONSGML v1.0//EN
CALSCALE:GREGORIAN
METHOD:PUBLISH
X-ORIGINAL-URL:https://pg-roermond.nl
X-WR-CALDESC:Evenementen voor Protestantse Gemeente Roermond
REFRESH-INTERVAL;VALUE=DURATION:PT1H
X-Robots-Tag:noindex
X-PUBLISHED-TTL:PT1H
BEGIN:VTIMEZONE
TZID:Europe/Amsterdam
BEGIN:DAYLIGHT
TZOFFSETFROM:+0100
TZOFFSETTO:+0200
TZNAME:CEST
DTSTART:20200329T010000
END:DAYLIGHT
BEGIN:STANDARD
TZOFFSETFROM:+0200
TZOFFSETTO:+0100
TZNAME:CET
DTSTART:20201025T010000
END:STANDARD
BEGIN:DAYLIGHT
TZOFFSETFROM:+0100
TZOFFSETTO:+0200
TZNAME:CEST
DTSTART:20210328T010000
END:DAYLIGHT
BEGIN:STANDARD
TZOFFSETFROM:+0200
TZOFFSETTO:+0100
TZNAME:CET
DTSTART:20211031T010000
END:STANDARD
BEGIN:DAYLIGHT
TZOFFSETFROM:+0100
TZOFFSETTO:+0200
TZNAME:CEST
DTSTART:20220327T010000
END:DAYLIGHT
BEGIN:STANDARD
TZOFFSETFROM:+0200
TZOFFSETTO:+0100
TZNAME:CET
DTSTART:20221030T010000
END:STANDARD
BEGIN:DAYLIGHT
TZOFFSETFROM:+0100
TZOFFSETTO:+0200
TZNAME:CEST
DTSTART:20230326T010000
END:DAYLIGHT
BEGIN:STANDARD
TZOFFSETFROM:+0200
TZOFFSETTO:+0100
TZNAME:CET
DTSTART:20231029T010000
END:STANDARD
END:VTIMEZONE
BEGIN:VEVENT
DTSTART;TZID=Europe/Amsterdam:20220930T093000
DTEND;TZID=Europe/Amsterdam:20220930T153000
DTSTAMP:20260423T054509
CREATED:20220901T185019Z
LAST-MODIFIED:20220901T185019Z
UID:14807-1664530200-1664551800@pg-roermond.nl
SUMMARY:Euregionale Oecumenische Conferentie
DESCRIPTION:Thema van deze conferentie is: Matigen\, een weg naar meer gerechtigheid en tevredenheid? Een aantal vragen rondom dit thema komen aan de orde en worden besproken in 6 werkgroepen.
URL:https://pg-roermond.nl/evenement/euregionale-oecumenische-conferentie/
LOCATION:Rotenberg 35 Eupen\, Rotenberg 35\, Eupen\, 4700\, België
CATEGORIES:Internationaal
ATTACH;FMTTYPE=image/jpeg:https://pg-roermond.nl/wp-content/uploads/2022/09/appel-water.jpg
END:VEVENT
BEGIN:VEVENT
DTSTART;TZID=Europe/Amsterdam:20220123T170000
DTEND;TZID=Europe/Amsterdam:20220123T180000
DTSTAMP:20260423T054509
CREATED:20210920T105956Z
LAST-MODIFIED:20220110T175400Z
UID:12324-1642957200-1642960800@pg-roermond.nl
SUMMARY:Afgelast: Oecumenische vesper
DESCRIPTION:In verband met de huidige lockdown en besmettingscijfers is deze vesper afgelast. \n 
URL:https://pg-roermond.nl/evenement/oecumenische-vesper/
LOCATION:Minderbroederskerk Roermond\, Minderbroederssingel 15G\, Roermond\, 6041KG\, Nederland
CATEGORIES:Kerkdienst,Oecumene
ATTACH;FMTTYPE=image/jpeg:https://pg-roermond.nl/wp-content/uploads/2018/03/IMG_20200913_104244-scaled.jpg
GEO:51.1915118;5.986052
X-APPLE-STRUCTURED-LOCATION;VALUE=URI;X-ADDRESS=Minderbroederskerk Roermond Minderbroederssingel 15G Roermond 6041KG Nederland;X-APPLE-RADIUS=500;X-TITLE=Minderbroederssingel 15G:geo:5.986052,51.1915118
END:VEVENT
BEGIN:VEVENT
DTSTART;TZID=Europe/Amsterdam:20211231T183000
DTEND;TZID=Europe/Amsterdam:20211231T193000
DTSTAMP:20260423T054509
CREATED:20210920T105714Z
LAST-MODIFIED:20211220T195005Z
UID:12322-1640975400-1640979000@pg-roermond.nl
SUMMARY:Online Oecumenische Oudejaarsvesper (verschillende voorgangers)
DESCRIPTION:De Oudejaarsviering op 31 december wordt dit jaar door de Jonge Kerk verzorgd\, mmv de andere oecumenische voorgangers\, en zal om 18:30 uur worden gestreamd vanuit de Ursulakapel. Hierbij mogen geen bezoekers aanwezig zijn. Het thema van de dienst is: “Licht geef je door door licht te zijn” en de muzikale medewerking is van het koor van de Jonge Kerk. \nU kunt de viering digitaal bijwonen en terugkijken. Op de website van de Jonge Kerk is de link voor de viering via kerkdienstgemist.nl te vinden.
URL:https://pg-roermond.nl/evenement/oecumenische-oudejaarsvesper-3/
LOCATION:Online\, Nederland
CATEGORIES:Kerkdienst
ATTACH;FMTTYPE=image/jpeg:https://pg-roermond.nl/wp-content/uploads/2021/01/ursulakapel-jonge-kerk-scaled.jpg
GEO:39.9613759;-105.5108312
END:VEVENT
BEGIN:VEVENT
DTSTART;TZID=Europe/Amsterdam:20211218T183000
DTEND;TZID=Europe/Amsterdam:20211218T193000
DTSTAMP:20260423T054509
CREATED:20210920T105449Z
LAST-MODIFIED:20211129T144100Z
UID:12320-1639852200-1639855800@pg-roermond.nl
SUMMARY:Afgelast: Festival of Lessons and Carols
DESCRIPTION:Onder voorbehoud
URL:https://pg-roermond.nl/evenement/festival-of-lessons-and-carols/
LOCATION:Kapel in ’t Zand\, Parklaan 1\, Roermond\, 6045BS\, Nederland
CATEGORIES:Kerkdienst
GEO:51.1808386;5.9973452
X-APPLE-STRUCTURED-LOCATION;VALUE=URI;X-ADDRESS=Kapel in ’t Zand Parklaan 1 Roermond 6045BS Nederland;X-APPLE-RADIUS=500;X-TITLE=Parklaan 1:geo:5.9973452,51.1808386
END:VEVENT
BEGIN:VEVENT
DTSTART;TZID=Europe/Amsterdam:20211107T170000
DTEND;TZID=Europe/Amsterdam:20211107T180000
DTSTAMP:20260423T054509
CREATED:20210920T105202Z
LAST-MODIFIED:20210920T105202Z
UID:12317-1636304400-1636308000@pg-roermond.nl
SUMMARY:Oecumenische vesper (Willibrordzondag)
DESCRIPTION:Oecumenische vesper in de Munsterkerk om 17.00 Willibrordzondag
URL:https://pg-roermond.nl/evenement/oecumenische-vesper-willibrordzondag/
LOCATION:Munsterkerk\, Roermond\, Roermond\, 6041HA\, Nederland
CATEGORIES:Oecumene
ATTACH;FMTTYPE=image/jpeg:https://pg-roermond.nl/wp-content/uploads/2021/09/munsterkerk.jpg
END:VEVENT
BEGIN:VEVENT
DTSTART;TZID=Europe/Amsterdam:20210331T140000
DTEND;TZID=Europe/Amsterdam:20210331T190000
DTSTAMP:20260423T054509
CREATED:20210318T143654Z
LAST-MODIFIED:20210318T184424Z
UID:11259-1617199200-1617217200@pg-roermond.nl
SUMMARY:PaasChallenge "De weg door Jeruzalem"
DESCRIPTION:Stel je voor dat je in een tijdmachine kan stappen\, terug naar het jaar 30 van onze jaartelling. Opeens loop je door de straten van Jeruzalem op zoek naar geheime aanwijzingen. Overal kom je QR-codes tegen en ga je het gesprek aan met virtuele gesprekspartners uit de tijd van Jezus. Welkom bij de PaasChallenge 2021!
URL:https://pg-roermond.nl/paaschallenge/
LOCATION:Ursulakapel\, Voogdijstraat 24\, Roermond\, 6041 GD\, Nederland
CATEGORIES:Inspiratie & Ontmoeting,The Passion
ATTACH;FMTTYPE=image/jpeg:https://pg-roermond.nl/wp-content/uploads/2021/03/1614871094.jpg
GEO:51.1957955;5.9911298
X-APPLE-STRUCTURED-LOCATION;VALUE=URI;X-ADDRESS=Ursulakapel Voogdijstraat 24 Roermond 6041 GD Nederland;X-APPLE-RADIUS=500;X-TITLE=Voogdijstraat 24:geo:5.9911298,51.1957955
END:VEVENT
BEGIN:VEVENT
DTSTART;TZID=Europe/Amsterdam:20210124T170000
DTEND;TZID=Europe/Amsterdam:20210124T180000
DTSTAMP:20260423T054509
CREATED:20210107T102419Z
LAST-MODIFIED:20210112T202604Z
UID:10896-1611507600-1611511200@pg-roermond.nl
SUMMARY:Online Oecumenische Vesper
DESCRIPTION:OECUMENISCHE VESPERVIERING\nZondag 17.00 uur 24-01-2021\nThema: Blijf in mijn liefde \nIn het kader van de week van het gebed voor de eenheid\,  vindt er 24 januari om 17.00 uur een vesperviering plaats\, die door de Raad van Kerken georganiseerd zal worden. \nU kunt deze viering digitaal volgen op uw computer of tablet. U kunt op onderstaand adres klikken of het overtypen in de adresbalk. \nhttps://kerkdienstgemist.nl/streams/1520333 \nBlijf in mijn liefde en je zult vrucht dragen is een oproep van Jezus\, zoals die door Johannes in zijn evangelie is opgetekend. Die vrucht bestaat uit alle werken die uit liefde voor mens\, dier en aarde plaatsvinden\, en die tot welzijn van allen leiden\, en die als teken van Gods liefde herkend worden.\nEen vesper viering is een stille viering waar ruimte is voor bezinning. Zeker in deze pandemie vol onzekerheid is de weg naar de ander en naar de wereld een weg die begint met een weg naar binnen.\nHet is mooi dat in deze viering de eenheid in Christus gevierd kan worden en we samen kunnen bidden voor de noden in de wereld. \nVoorgangers zijn: dominee Judith van den Berg-Meelis van de Protestantse gemeente\, Deken Alex de Graaf Woutering van de Christoforus parochie\, dhr. Harrie van Heugten en dhr. Wim Janssen van de basisgroep Jonge Kerk Roermond.
URL:https://pg-roermond.nl/evenement/online-oecumenische-vesper/
LOCATION:Ursulakapel\, Voogdijstraat 24\, Roermond\, 6041 GD\, Nederland
CATEGORIES:Kerkdienst,Oecumene
ATTACH;FMTTYPE=image/jpeg:https://pg-roermond.nl/wp-content/uploads/2021/01/ursulakapel-jonge-kerk-scaled.jpg
GEO:51.1957955;5.9911298
X-APPLE-STRUCTURED-LOCATION;VALUE=URI;X-ADDRESS=Ursulakapel Voogdijstraat 24 Roermond 6041 GD Nederland;X-APPLE-RADIUS=500;X-TITLE=Voogdijstraat 24:geo:5.9911298,51.1957955
END:VEVENT
END:VCALENDAR