BEGIN:VCALENDAR
VERSION:2.0
PRODID:-//Protestantse Gemeente Roermond - ECPv6.15.20//NONSGML v1.0//EN
CALSCALE:GREGORIAN
METHOD:PUBLISH
X-ORIGINAL-URL:https://pg-roermond.nl
X-WR-CALDESC:Evenementen voor Protestantse Gemeente Roermond
REFRESH-INTERVAL;VALUE=DURATION:PT1H
X-Robots-Tag:noindex
X-PUBLISHED-TTL:PT1H
BEGIN:VTIMEZONE
TZID:Europe/Amsterdam
BEGIN:DAYLIGHT
TZOFFSETFROM:+0100
TZOFFSETTO:+0200
TZNAME:CEST
DTSTART:20200329T010000
END:DAYLIGHT
BEGIN:STANDARD
TZOFFSETFROM:+0200
TZOFFSETTO:+0100
TZNAME:CET
DTSTART:20201025T010000
END:STANDARD
BEGIN:DAYLIGHT
TZOFFSETFROM:+0100
TZOFFSETTO:+0200
TZNAME:CEST
DTSTART:20210328T010000
END:DAYLIGHT
BEGIN:STANDARD
TZOFFSETFROM:+0200
TZOFFSETTO:+0100
TZNAME:CET
DTSTART:20211031T010000
END:STANDARD
BEGIN:DAYLIGHT
TZOFFSETFROM:+0100
TZOFFSETTO:+0200
TZNAME:CEST
DTSTART:20220327T010000
END:DAYLIGHT
BEGIN:STANDARD
TZOFFSETFROM:+0200
TZOFFSETTO:+0100
TZNAME:CET
DTSTART:20221030T010000
END:STANDARD
END:VTIMEZONE
BEGIN:VEVENT
DTSTART;TZID=Europe/Amsterdam:20211231T183000
DTEND;TZID=Europe/Amsterdam:20211231T193000
DTSTAMP:20260421T064306
CREATED:20210920T105714Z
LAST-MODIFIED:20211220T195005Z
UID:12322-1640975400-1640979000@pg-roermond.nl
SUMMARY:Online Oecumenische Oudejaarsvesper (verschillende voorgangers)
DESCRIPTION:De Oudejaarsviering op 31 december wordt dit jaar door de Jonge Kerk verzorgd\, mmv de andere oecumenische voorgangers\, en zal om 18:30 uur worden gestreamd vanuit de Ursulakapel. Hierbij mogen geen bezoekers aanwezig zijn. Het thema van de dienst is: “Licht geef je door door licht te zijn” en de muzikale medewerking is van het koor van de Jonge Kerk. \nU kunt de viering digitaal bijwonen en terugkijken. Op de website van de Jonge Kerk is de link voor de viering via kerkdienstgemist.nl te vinden.
URL:https://pg-roermond.nl/evenement/oecumenische-oudejaarsvesper-3/
LOCATION:Online\, Nederland
CATEGORIES:Kerkdienst
ATTACH;FMTTYPE=image/jpeg:https://pg-roermond.nl/wp-content/uploads/2021/01/ursulakapel-jonge-kerk-scaled.jpg
GEO:39.9613759;-105.5108312
END:VEVENT
BEGIN:VEVENT
DTSTART;TZID=Europe/Amsterdam:20211216T200000
DTEND;TZID=Europe/Amsterdam:20211216T220000
DTSTAMP:20260421T064306
CREATED:20211107T105440Z
LAST-MODIFIED:20211203T085214Z
UID:12528-1639684800-1639692000@pg-roermond.nl
SUMMARY:Online Filmavond
DESCRIPTION:De filmavond wordt vanwege de avondlockdown nu online gehouden. Dit zullen we via Zoom doen. U kunt dus vanuit huis naar de documentaire kijken en na afloop online met elkaar napraten. \nWe hebben gekozen om één documentaire te laten zien nu de avond online is. Dat wordt ‘Godspeed’. Deze documentaire gaat over een jonge Amerikaanse dominee die in een Schotse parochie gaat werken. Zijn verlangen om de wereld te veranderen moet hij hier bijstellen. Dankzij de mensen van het dorp leert hij te vertragen en te luisteren. \nDe avond wordt ingeleid door dominee Judith van den Berg-Meelis. Na afloop van de documentaire is er gelegenheid voor vragen\, gesprek en discussie. Let op: Godspeed is in het Engels zonder ondertiteling\, maar de documentaire is goed te volgen. \nDe filmavond is donderdag 16 december en start om 20.00 uur.\nDit is de link: zoom\nWe raden u aan om een paar minuten voor 20.00 uur in te loggen. \nIn deze donkere dagen kunnen we op deze manier toch ’samenkomen’. Doet u ook mee?
URL:https://pg-roermond.nl/evenement/filmavond/
LOCATION:Online\, Nederland
CATEGORIES:Film,Inspiratie & Ontmoeting
ATTACH;FMTTYPE=image/jpeg:https://pg-roermond.nl/wp-content/uploads/2021/11/image-asset.jpeg
GEO:39.9613759;-105.5108312
END:VEVENT
BEGIN:VEVENT
DTSTART;TZID=Europe/Amsterdam:20210401T200000
DTEND;TZID=Europe/Amsterdam:20210401T220000
DTSTAMP:20260421T064306
CREATED:20210222T105537Z
LAST-MODIFIED:20210318T153442Z
UID:11040-1617307200-1617314400@pg-roermond.nl
SUMMARY:The Passion 2021 - Roermond
DESCRIPTION:Witte Donderdag\nOm 20.00 is de tv-uitzending van The Passion uit Roermond.\n\nOm iedereen in de gelegenheid te stellen te kijken\, houden we geen Witte Donderdagviering in onze kerk. Mocht u (daarnaast) prijs stellen op een lokale kerkviering\, kijk dan bij onze buurgemeentes Maasbracht\, Weert of Venlo.
URL:https://pg-roermond.nl/evenement/the-passion-2021-roermond/
LOCATION:Online\, Nederland
CATEGORIES:Concert,The Passion
ATTACH;FMTTYPE=image/jpeg:https://pg-roermond.nl/wp-content/uploads/2021/02/passion-logo.jpg
GEO:39.9613759;-105.5108312
END:VEVENT
BEGIN:VEVENT
DTSTART;TZID=Europe/Amsterdam:20210321T100000
DTEND;TZID=Europe/Amsterdam:20210321T113000
DTSTAMP:20260421T064306
CREATED:20201116T112941Z
LAST-MODIFIED:20210319T093855Z
UID:10470-1616320800-1616326200@pg-roermond.nl
SUMMARY:Regionale Online Dienst
DESCRIPTION:Regionale Online Dienst uit Venlo \nDeze dienst is online te volgen via kerkdienstgemist.nl.
URL:https://pg-roermond.nl/evenement/kerkdienst-ds-j-m-van-den-berg-meelis-3-2021-03-07-2021-03-21/
LOCATION:Online\, Nederland
CATEGORIES:Kerkdienst
ATTACH;FMTTYPE=image/jpeg:https://pg-roermond.nl/wp-content/uploads/2020/11/medium_Joriskerk_noordzijde_Venlo.jpg
GEO:39.9613759;-105.5108312
END:VEVENT
BEGIN:VEVENT
DTSTART;TZID=Europe/Amsterdam:20210228T100000
DTEND;TZID=Europe/Amsterdam:20210228T113000
DTSTAMP:20260421T064306
CREATED:20201116T112941Z
LAST-MODIFIED:20210204T201038Z
UID:10467-1614506400-1614511800@pg-roermond.nl
SUMMARY:Kerkdienst (ds J.M. van den Berg-Meelis)
DESCRIPTION:Lees hier meer over onze coronamaatregelen. \nDeze dienst is online te volgen via de livestream.
URL:https://pg-roermond.nl/evenement/kerkdienst-ds-j-m-van-den-berg-meelis-3-2021-02-28/
LOCATION:Online\, Nederland
CATEGORIES:Kerkdienst
ATTACH;FMTTYPE=image/jpeg:https://pg-roermond.nl/wp-content/uploads/2018/03/IMG_20200913_104244-scaled.jpg
GEO:39.9613759;-105.5108312
END:VEVENT
BEGIN:VEVENT
DTSTART;TZID=Europe/Amsterdam:20210221T100000
DTEND;TZID=Europe/Amsterdam:20210221T113000
DTSTAMP:20260421T064306
CREATED:20201116T112941Z
LAST-MODIFIED:20210204T200855Z
UID:10466-1613901600-1613907000@pg-roermond.nl
SUMMARY:Kerkdienst (Drs. M. Bijleveld)
DESCRIPTION:Lees hier meer over onze coronamaatregelen. \nDeze dienst is ook online te volgen via de livestream.
URL:https://pg-roermond.nl/evenement/kerkdienst-ds-j-m-van-den-berg-meelis-3-2021-02-21/
LOCATION:Online\, Nederland
CATEGORIES:Kerkdienst
ATTACH;FMTTYPE=image/jpeg:https://pg-roermond.nl/wp-content/uploads/2018/03/IMG_20200913_104244-scaled.jpg
GEO:39.9613759;-105.5108312
END:VEVENT
BEGIN:VEVENT
DTSTART;TZID=Europe/Amsterdam:20210214T100000
DTEND;TZID=Europe/Amsterdam:20210214T113000
DTSTAMP:20260421T064306
CREATED:20201116T112941Z
LAST-MODIFIED:20210204T200726Z
UID:10465-1613296800-1613302200@pg-roermond.nl
SUMMARY:Kerkdienst (ds J.M. van den Berg-Meelis)
DESCRIPTION:Lees hier meer over onze coronamaatregelen. \nDeze dienst is online te volgen via de livestream.
URL:https://pg-roermond.nl/evenement/kerkdienst-ds-j-m-van-den-berg-meelis-3-2021-02-14/
LOCATION:Online\, Nederland
CATEGORIES:Kerkdienst
ATTACH;FMTTYPE=image/jpeg:https://pg-roermond.nl/wp-content/uploads/2018/03/IMG_20200913_104244-scaled.jpg
GEO:39.9613759;-105.5108312
END:VEVENT
END:VCALENDAR