BEGIN:VCALENDAR
VERSION:2.0
PRODID:-//Protestantse Gemeente Roermond - ECPv6.15.20//NONSGML v1.0//EN
CALSCALE:GREGORIAN
METHOD:PUBLISH
X-ORIGINAL-URL:https://pg-roermond.nl
X-WR-CALDESC:Evenementen voor Protestantse Gemeente Roermond
REFRESH-INTERVAL;VALUE=DURATION:PT1H
X-Robots-Tag:noindex
X-PUBLISHED-TTL:PT1H
BEGIN:VTIMEZONE
TZID:Europe/Amsterdam
BEGIN:DAYLIGHT
TZOFFSETFROM:+0100
TZOFFSETTO:+0200
TZNAME:CEST
DTSTART:20240331T010000
END:DAYLIGHT
BEGIN:STANDARD
TZOFFSETFROM:+0200
TZOFFSETTO:+0100
TZNAME:CET
DTSTART:20241027T010000
END:STANDARD
BEGIN:DAYLIGHT
TZOFFSETFROM:+0100
TZOFFSETTO:+0200
TZNAME:CEST
DTSTART:20250330T010000
END:DAYLIGHT
BEGIN:STANDARD
TZOFFSETFROM:+0200
TZOFFSETTO:+0100
TZNAME:CET
DTSTART:20251026T010000
END:STANDARD
BEGIN:DAYLIGHT
TZOFFSETFROM:+0100
TZOFFSETTO:+0200
TZNAME:CEST
DTSTART:20260329T010000
END:DAYLIGHT
BEGIN:STANDARD
TZOFFSETFROM:+0200
TZOFFSETTO:+0100
TZNAME:CET
DTSTART:20261025T010000
END:STANDARD
END:VTIMEZONE
BEGIN:VEVENT
DTSTART;TZID=Europe/Amsterdam:20250527T170000
DTEND;TZID=Europe/Amsterdam:20250527T190000
DTSTAMP:20260424T125412
CREATED:20250226T101951Z
LAST-MODIFIED:20250226T101951Z
UID:22381-1748365200-1748372400@pg-roermond.nl
SUMMARY:Meet & Eat
DESCRIPTION:Inloop in het Ontmoetingscentrum vanaf 17.00 uur\, we starten de maaltijd om 18.00 uur.
URL:https://pg-roermond.nl/evenement/meet-eat-28/2025-05-27/
LOCATION:Ontmoetingscentrum\, Roermond\, Minderbroederssingel 15F\, Roermond\, 6041KG\, Nederland
CATEGORIES:Meet & Eat
ATTACH;FMTTYPE=image/jpeg:https://pg-roermond.nl/wp-content/uploads/2023/01/meeteat7.jpg
GEO:51.1916734;5.985823
X-APPLE-STRUCTURED-LOCATION;VALUE=URI;X-ADDRESS=Ontmoetingscentrum Roermond Minderbroederssingel 15F Roermond 6041KG Nederland;X-APPLE-RADIUS=500;X-TITLE=Minderbroederssingel 15F:geo:5.985823,51.1916734
END:VEVENT
BEGIN:VEVENT
DTSTART;TZID=Europe/Amsterdam:20250528T130000
DTEND;TZID=Europe/Amsterdam:20250528T160000
DTSTAMP:20260424T125412
CREATED:20240530T142728Z
LAST-MODIFIED:20240530T142728Z
UID:18433-1748437200-1748448000@pg-roermond.nl
SUMMARY:Open Kerk
DESCRIPTION:
URL:https://pg-roermond.nl/evenement/open-kerk-6/2025-05-28/
LOCATION:Minderbroederskerk Roermond\, Minderbroederssingel 15G\, Roermond\, 6041KG\, Nederland
CATEGORIES:Open Kerk
GEO:51.1915118;5.986052
X-APPLE-STRUCTURED-LOCATION;VALUE=URI;X-ADDRESS=Minderbroederskerk Roermond Minderbroederssingel 15G Roermond 6041KG Nederland;X-APPLE-RADIUS=500;X-TITLE=Minderbroederssingel 15G:geo:5.986052,51.1915118
END:VEVENT
END:VCALENDAR