BEGIN:VCALENDAR
VERSION:2.0
PRODID:-//Protestantse Gemeente Roermond - ECPv6.15.20//NONSGML v1.0//EN
CALSCALE:GREGORIAN
METHOD:PUBLISH
X-WR-CALNAME:Protestantse Gemeente Roermond
X-ORIGINAL-URL:https://pg-roermond.nl
X-WR-CALDESC:Evenementen voor Protestantse Gemeente Roermond
REFRESH-INTERVAL;VALUE=DURATION:PT1H
X-Robots-Tag:noindex
X-PUBLISHED-TTL:PT1H
BEGIN:VTIMEZONE
TZID:Europe/Amsterdam
BEGIN:DAYLIGHT
TZOFFSETFROM:+0100
TZOFFSETTO:+0200
TZNAME:CEST
DTSTART:20250330T010000
END:DAYLIGHT
BEGIN:STANDARD
TZOFFSETFROM:+0200
TZOFFSETTO:+0100
TZNAME:CET
DTSTART:20251026T010000
END:STANDARD
BEGIN:DAYLIGHT
TZOFFSETFROM:+0100
TZOFFSETTO:+0200
TZNAME:CEST
DTSTART:20260329T010000
END:DAYLIGHT
BEGIN:STANDARD
TZOFFSETFROM:+0200
TZOFFSETTO:+0100
TZNAME:CET
DTSTART:20261025T010000
END:STANDARD
BEGIN:DAYLIGHT
TZOFFSETFROM:+0100
TZOFFSETTO:+0200
TZNAME:CEST
DTSTART:20270328T010000
END:DAYLIGHT
BEGIN:STANDARD
TZOFFSETFROM:+0200
TZOFFSETTO:+0100
TZNAME:CET
DTSTART:20271031T010000
END:STANDARD
END:VTIMEZONE
BEGIN:VEVENT
DTSTART;TZID=Europe/Amsterdam:20260104T100000
DTEND;TZID=Europe/Amsterdam:20260104T113000
DTSTAMP:20260421T012757
CREATED:20251211T131822Z
LAST-MODIFIED:20251211T131822Z
UID:23140-1767520800-1767526200@pg-roermond.nl
SUMMARY:Kerkdienst: ds. Marije Bijleveld uit Maastricht
DESCRIPTION:
URL:https://pg-roermond.nl/evenement/kerkdienst-ds-marije-bijleveld-uit-maastricht-4/
LOCATION:Minderbroederskerk Roermond\, Minderbroederssingel 15G\, Roermond\, 6041KG\, Nederland
CATEGORIES:Kerkdienst
GEO:51.1915118;5.986052
X-APPLE-STRUCTURED-LOCATION;VALUE=URI;X-ADDRESS=Minderbroederskerk Roermond Minderbroederssingel 15G Roermond 6041KG Nederland;X-APPLE-RADIUS=500;X-TITLE=Minderbroederssingel 15G:geo:5.986052,51.1915118
END:VEVENT
BEGIN:VEVENT
DTSTART;TZID=Europe/Amsterdam:20260111T100000
DTEND;TZID=Europe/Amsterdam:20260111T113000
DTSTAMP:20260421T012757
CREATED:20251211T131918Z
LAST-MODIFIED:20260109T132316Z
UID:23142-1768125600-1768131000@pg-roermond.nl
SUMMARY:Kerkdienst: Gaat NIET door zie kerkdienstgemist.nl Maasbracht
DESCRIPTION:
URL:https://pg-roermond.nl/evenement/kerkdienst-ds-gerard-nieuwburg-uit-heythuysen-3/
LOCATION:Minderbroederskerk Roermond\, Minderbroederssingel 15G\, Roermond\, 6041KG\, Nederland
CATEGORIES:Kerkdienst
GEO:51.1915118;5.986052
X-APPLE-STRUCTURED-LOCATION;VALUE=URI;X-ADDRESS=Minderbroederskerk Roermond Minderbroederssingel 15G Roermond 6041KG Nederland;X-APPLE-RADIUS=500;X-TITLE=Minderbroederssingel 15G:geo:5.986052,51.1915118
END:VEVENT
BEGIN:VEVENT
DTSTART;TZID=Europe/Amsterdam:20260118T100000
DTEND;TZID=Europe/Amsterdam:20260118T113000
DTSTAMP:20260421T012757
CREATED:20251211T132011Z
LAST-MODIFIED:20251211T132011Z
UID:23144-1768730400-1768735800@pg-roermond.nl
SUMMARY:Kerkdienst & HA: ds. Bert Jan van Haarlem uit Eindhoven
DESCRIPTION:
URL:https://pg-roermond.nl/evenement/kerkdienst-ha-ds-bert-jan-van-haarlem-uit-eindhoven/
LOCATION:Minderbroederskerk Roermond\, Minderbroederssingel 15G\, Roermond\, 6041KG\, Nederland
CATEGORIES:Kerkdienst
GEO:51.1915118;5.986052
X-APPLE-STRUCTURED-LOCATION;VALUE=URI;X-ADDRESS=Minderbroederskerk Roermond Minderbroederssingel 15G Roermond 6041KG Nederland;X-APPLE-RADIUS=500;X-TITLE=Minderbroederssingel 15G:geo:5.986052,51.1915118
END:VEVENT
BEGIN:VEVENT
DTSTART;TZID=Europe/Amsterdam:20260125T100000
DTEND;TZID=Europe/Amsterdam:20260125T113000
DTSTAMP:20260421T012757
CREATED:20251211T132055Z
LAST-MODIFIED:20251211T132055Z
UID:23146-1769335200-1769340600@pg-roermond.nl
SUMMARY:Kerkdienst: ds. Sophie Bloemert uit Heerlen
DESCRIPTION:
URL:https://pg-roermond.nl/evenement/kerkdienst-ds-sophie-bloemert-uit-heerlen/
LOCATION:Minderbroederskerk Roermond\, Minderbroederssingel 15G\, Roermond\, 6041KG\, Nederland
CATEGORIES:Kerkdienst
GEO:51.1915118;5.986052
X-APPLE-STRUCTURED-LOCATION;VALUE=URI;X-ADDRESS=Minderbroederskerk Roermond Minderbroederssingel 15G Roermond 6041KG Nederland;X-APPLE-RADIUS=500;X-TITLE=Minderbroederssingel 15G:geo:5.986052,51.1915118
END:VEVENT
END:VCALENDAR