BEGIN:VCALENDAR
VERSION:2.0
PRODID:-//Protestantse Gemeente Roermond - ECPv6.15.20//NONSGML v1.0//EN
CALSCALE:GREGORIAN
METHOD:PUBLISH
X-ORIGINAL-URL:https://pg-roermond.nl
X-WR-CALDESC:Evenementen voor Protestantse Gemeente Roermond
REFRESH-INTERVAL;VALUE=DURATION:PT1H
X-Robots-Tag:noindex
X-PUBLISHED-TTL:PT1H
BEGIN:VTIMEZONE
TZID:Europe/Amsterdam
BEGIN:DAYLIGHT
TZOFFSETFROM:+0100
TZOFFSETTO:+0200
TZNAME:CEST
DTSTART:20240331T010000
END:DAYLIGHT
BEGIN:STANDARD
TZOFFSETFROM:+0200
TZOFFSETTO:+0100
TZNAME:CET
DTSTART:20241027T010000
END:STANDARD
BEGIN:DAYLIGHT
TZOFFSETFROM:+0100
TZOFFSETTO:+0200
TZNAME:CEST
DTSTART:20250330T010000
END:DAYLIGHT
BEGIN:STANDARD
TZOFFSETFROM:+0200
TZOFFSETTO:+0100
TZNAME:CET
DTSTART:20251026T010000
END:STANDARD
BEGIN:DAYLIGHT
TZOFFSETFROM:+0100
TZOFFSETTO:+0200
TZNAME:CEST
DTSTART:20260329T010000
END:DAYLIGHT
BEGIN:STANDARD
TZOFFSETFROM:+0200
TZOFFSETTO:+0100
TZNAME:CET
DTSTART:20261025T010000
END:STANDARD
END:VTIMEZONE
BEGIN:VEVENT
DTSTART;TZID=Europe/Amsterdam:20251203T130000
DTEND;TZID=Europe/Amsterdam:20251203T160000
DTSTAMP:20260422T002249
CREATED:20240530T142728Z
LAST-MODIFIED:20240530T142728Z
UID:18460-1764766800-1764777600@pg-roermond.nl
SUMMARY:Open Kerk
DESCRIPTION:
URL:https://pg-roermond.nl/evenement/open-kerk-6/2025-12-03/
LOCATION:Minderbroederskerk Roermond\, Minderbroederssingel 15G\, Roermond\, 6041KG\, Nederland
CATEGORIES:Open Kerk
GEO:51.1915118;5.986052
X-APPLE-STRUCTURED-LOCATION;VALUE=URI;X-ADDRESS=Minderbroederskerk Roermond Minderbroederssingel 15G Roermond 6041KG Nederland;X-APPLE-RADIUS=500;X-TITLE=Minderbroederssingel 15G:geo:5.986052,51.1915118
END:VEVENT
BEGIN:VEVENT
DTSTART;TZID=Europe/Amsterdam:20251207T100000
DTEND;TZID=Europe/Amsterdam:20251207T113000
DTSTAMP:20260422T002249
CREATED:20251001T124746Z
LAST-MODIFIED:20251006T132440Z
UID:23001-1765101600-1765107000@pg-roermond.nl
SUMMARY:Kerkdienst: ds. Ton van Andel uit Valkenswaard - 2e advent
DESCRIPTION:
URL:https://pg-roermond.nl/evenement/kerkdienst-ds-ton-van-andel-2e-advent/
CATEGORIES:Kerkdienst
END:VEVENT
BEGIN:VEVENT
DTSTART;TZID=Europe/Amsterdam:20251210T130000
DTEND;TZID=Europe/Amsterdam:20251210T160000
DTSTAMP:20260422T002249
CREATED:20240530T142728Z
LAST-MODIFIED:20240530T142728Z
UID:18461-1765371600-1765382400@pg-roermond.nl
SUMMARY:Open Kerk
DESCRIPTION:
URL:https://pg-roermond.nl/evenement/open-kerk-6/2025-12-10/
LOCATION:Minderbroederskerk Roermond\, Minderbroederssingel 15G\, Roermond\, 6041KG\, Nederland
CATEGORIES:Open Kerk
GEO:51.1915118;5.986052
X-APPLE-STRUCTURED-LOCATION;VALUE=URI;X-ADDRESS=Minderbroederskerk Roermond Minderbroederssingel 15G Roermond 6041KG Nederland;X-APPLE-RADIUS=500;X-TITLE=Minderbroederssingel 15G:geo:5.986052,51.1915118
END:VEVENT
BEGIN:VEVENT
DTSTART;TZID=Europe/Amsterdam:20251214T100000
DTEND;TZID=Europe/Amsterdam:20251214T113000
DTSTAMP:20260422T002249
CREATED:20251001T124835Z
LAST-MODIFIED:20251006T132354Z
UID:23003-1765706400-1765711800@pg-roermond.nl
SUMMARY:Kerkdienst: dr. Margriet Gosker uit Venlo - 3e advent
DESCRIPTION:
URL:https://pg-roermond.nl/evenement/kerkdienst-dr-margriet-gosker-3e-advent/
CATEGORIES:Kerkdienst
END:VEVENT
BEGIN:VEVENT
DTSTART;TZID=Europe/Amsterdam:20251214T190000
DTEND;TZID=Europe/Amsterdam:20251214T203000
DTSTAMP:20260422T002249
CREATED:20251001T125153Z
LAST-MODIFIED:20251001T125153Z
UID:23005-1765738800-1765744200@pg-roermond.nl
SUMMARY:Drielandendienst
DESCRIPTION:
URL:https://pg-roermond.nl/evenement/drielandendienst/
CATEGORIES:Kerkdienst
END:VEVENT
BEGIN:VEVENT
DTSTART;TZID=Europe/Amsterdam:20251217T130000
DTEND;TZID=Europe/Amsterdam:20251217T160000
DTSTAMP:20260422T002249
CREATED:20240530T142728Z
LAST-MODIFIED:20240530T142728Z
UID:18462-1765976400-1765987200@pg-roermond.nl
SUMMARY:Open Kerk
DESCRIPTION:
URL:https://pg-roermond.nl/evenement/open-kerk-6/2025-12-17/
LOCATION:Minderbroederskerk Roermond\, Minderbroederssingel 15G\, Roermond\, 6041KG\, Nederland
CATEGORIES:Open Kerk
GEO:51.1915118;5.986052
X-APPLE-STRUCTURED-LOCATION;VALUE=URI;X-ADDRESS=Minderbroederskerk Roermond Minderbroederssingel 15G Roermond 6041KG Nederland;X-APPLE-RADIUS=500;X-TITLE=Minderbroederssingel 15G:geo:5.986052,51.1915118
END:VEVENT
BEGIN:VEVENT
DTSTART;TZID=Europe/Amsterdam:20251221T100000
DTEND;TZID=Europe/Amsterdam:20251221T113000
DTSTAMP:20260422T002249
CREATED:20251001T125342Z
LAST-MODIFIED:20251001T125342Z
UID:23008-1766311200-1766316600@pg-roermond.nl
SUMMARY:Kerkdienst: ds. Marian Knetemann uit Antwerpen - 4e advent
DESCRIPTION:
URL:https://pg-roermond.nl/evenement/kerkdienst-ds-marian-knetemann-uit-antwerpen-4e-advent/
CATEGORIES:Kerkdienst
END:VEVENT
BEGIN:VEVENT
DTSTART;TZID=Europe/Amsterdam:20251223T183000
DTEND;TZID=Europe/Amsterdam:20251223T210000
DTSTAMP:20260422T002249
CREATED:20251220T093329Z
LAST-MODIFIED:20251220T093329Z
UID:23177-1766514600-1766523600@pg-roermond.nl
SUMMARY:Piano concert
DESCRIPTION:
URL:https://pg-roermond.nl/evenement/piano-concert/
LOCATION:Minderbroederskerk Roermond\, Minderbroederssingel 15G\, Roermond\, 6041KG\, Nederland
GEO:51.1915118;5.986052
X-APPLE-STRUCTURED-LOCATION;VALUE=URI;X-ADDRESS=Minderbroederskerk Roermond Minderbroederssingel 15G Roermond 6041KG Nederland;X-APPLE-RADIUS=500;X-TITLE=Minderbroederssingel 15G:geo:5.986052,51.1915118
END:VEVENT
BEGIN:VEVENT
DTSTART;TZID=Europe/Amsterdam:20251225T100000
DTEND;TZID=Europe/Amsterdam:20251225T113000
DTSTAMP:20260422T002249
CREATED:20251001T125418Z
LAST-MODIFIED:20251001T125418Z
UID:23010-1766656800-1766662200@pg-roermond.nl
SUMMARY:Kerkdienst: ds. Marian Knetemann uit Antwerpen - 1e Kerstdag
DESCRIPTION:
URL:https://pg-roermond.nl/evenement/kerkdienst-ds-marian-knetemann-uit-antwerpen-1e-kerstdag/
CATEGORIES:Kerkdienst
END:VEVENT
BEGIN:VEVENT
DTSTART;TZID=Europe/Amsterdam:20251228T100000
DTEND;TZID=Europe/Amsterdam:20251228T113000
DTSTAMP:20260422T002249
CREATED:20251001T125456Z
LAST-MODIFIED:20251001T125456Z
UID:23012-1766916000-1766921400@pg-roermond.nl
SUMMARY:Kerkdienst: ds. Marije Bijleveld uit Maastricht
DESCRIPTION:
URL:https://pg-roermond.nl/evenement/kerkdienst-ds-marije-bijleveld-uit-maastricht-2/
CATEGORIES:Kerkdienst
END:VEVENT
BEGIN:VEVENT
DTSTART;TZID=Europe/Amsterdam:20251230T190000
DTEND;TZID=Europe/Amsterdam:20251230T200000
DTSTAMP:20260422T002249
CREATED:20251001T125538Z
LAST-MODIFIED:20251001T125538Z
UID:23014-1767121200-1767124800@pg-roermond.nl
SUMMARY:Oudejaarsvesper in Munsterkerk
DESCRIPTION:
URL:https://pg-roermond.nl/evenement/oudejaarsvesper-in-munsterkerk/
CATEGORIES:Vesper
END:VEVENT
END:VCALENDAR