BEGIN:VCALENDAR
VERSION:2.0
PRODID:-//Protestantse Gemeente Roermond - ECPv6.15.20//NONSGML v1.0//EN
CALSCALE:GREGORIAN
METHOD:PUBLISH
X-ORIGINAL-URL:https://pg-roermond.nl
X-WR-CALDESC:Evenementen voor Protestantse Gemeente Roermond
REFRESH-INTERVAL;VALUE=DURATION:PT1H
X-Robots-Tag:noindex
X-PUBLISHED-TTL:PT1H
BEGIN:VTIMEZONE
TZID:Europe/Amsterdam
BEGIN:DAYLIGHT
TZOFFSETFROM:+0100
TZOFFSETTO:+0200
TZNAME:CEST
DTSTART:20240331T010000
END:DAYLIGHT
BEGIN:STANDARD
TZOFFSETFROM:+0200
TZOFFSETTO:+0100
TZNAME:CET
DTSTART:20241027T010000
END:STANDARD
BEGIN:DAYLIGHT
TZOFFSETFROM:+0100
TZOFFSETTO:+0200
TZNAME:CEST
DTSTART:20250330T010000
END:DAYLIGHT
BEGIN:STANDARD
TZOFFSETFROM:+0200
TZOFFSETTO:+0100
TZNAME:CET
DTSTART:20251026T010000
END:STANDARD
BEGIN:DAYLIGHT
TZOFFSETFROM:+0100
TZOFFSETTO:+0200
TZNAME:CEST
DTSTART:20260329T010000
END:DAYLIGHT
BEGIN:STANDARD
TZOFFSETFROM:+0200
TZOFFSETTO:+0100
TZNAME:CET
DTSTART:20261025T010000
END:STANDARD
END:VTIMEZONE
BEGIN:VEVENT
DTSTART;TZID=Europe/Amsterdam:20250903T130000
DTEND;TZID=Europe/Amsterdam:20250903T160000
DTSTAMP:20260422T021644
CREATED:20240530T142728Z
LAST-MODIFIED:20240530T142728Z
UID:18447-1756904400-1756915200@pg-roermond.nl
SUMMARY:Open Kerk
DESCRIPTION:
URL:https://pg-roermond.nl/evenement/open-kerk-6/2025-09-03/
LOCATION:Minderbroederskerk Roermond\, Minderbroederssingel 15G\, Roermond\, 6041KG\, Nederland
CATEGORIES:Open Kerk
GEO:51.1915118;5.986052
X-APPLE-STRUCTURED-LOCATION;VALUE=URI;X-ADDRESS=Minderbroederskerk Roermond Minderbroederssingel 15G Roermond 6041KG Nederland;X-APPLE-RADIUS=500;X-TITLE=Minderbroederssingel 15G:geo:5.986052,51.1915118
END:VEVENT
BEGIN:VEVENT
DTSTART;TZID=Europe/Amsterdam:20250907T100000
DTEND;TZID=Europe/Amsterdam:20250907T113000
DTSTAMP:20260422T021644
CREATED:20250713T091615Z
LAST-MODIFIED:20250713T091615Z
UID:22779-1757239200-1757244600@pg-roermond.nl
SUMMARY:Kerkdienst en HA: ds. Ton van Andel uit Valkenswaard
DESCRIPTION:
URL:https://pg-roermond.nl/evenement/kerkdienst-en-ha-ds-ton-van-andel-uit-valkenswaard/
LOCATION:Minderbroederskerk Roermond\, Minderbroederssingel 15G\, Roermond\, 6041KG\, Nederland
CATEGORIES:Kerkdienst
GEO:51.1915118;5.986052
X-APPLE-STRUCTURED-LOCATION;VALUE=URI;X-ADDRESS=Minderbroederskerk Roermond Minderbroederssingel 15G Roermond 6041KG Nederland;X-APPLE-RADIUS=500;X-TITLE=Minderbroederssingel 15G:geo:5.986052,51.1915118
END:VEVENT
BEGIN:VEVENT
DTSTART;TZID=Europe/Amsterdam:20250910T130000
DTEND;TZID=Europe/Amsterdam:20250910T160000
DTSTAMP:20260422T021644
CREATED:20240530T142728Z
LAST-MODIFIED:20240530T142728Z
UID:18448-1757509200-1757520000@pg-roermond.nl
SUMMARY:Open Kerk
DESCRIPTION:
URL:https://pg-roermond.nl/evenement/open-kerk-6/2025-09-10/
LOCATION:Minderbroederskerk Roermond\, Minderbroederssingel 15G\, Roermond\, 6041KG\, Nederland
CATEGORIES:Open Kerk
GEO:51.1915118;5.986052
X-APPLE-STRUCTURED-LOCATION;VALUE=URI;X-ADDRESS=Minderbroederskerk Roermond Minderbroederssingel 15G Roermond 6041KG Nederland;X-APPLE-RADIUS=500;X-TITLE=Minderbroederssingel 15G:geo:5.986052,51.1915118
END:VEVENT
BEGIN:VEVENT
DTSTART;TZID=Europe/Amsterdam:20250914T100000
DTEND;TZID=Europe/Amsterdam:20250914T113000
DTSTAMP:20260422T021644
CREATED:20250713T091658Z
LAST-MODIFIED:20250713T092114Z
UID:22781-1757844000-1757849400@pg-roermond.nl
SUMMARY:Kerkdienst: dr Margriet Gosker uit Venlo
DESCRIPTION:
URL:https://pg-roermond.nl/evenement/kerkdienst-dr-margriet-gosker/
LOCATION:Minderbroederskerk Roermond\, Minderbroederssingel 15G\, Roermond\, 6041KG\, Nederland
CATEGORIES:Kerkdienst
GEO:51.1915118;5.986052
X-APPLE-STRUCTURED-LOCATION;VALUE=URI;X-ADDRESS=Minderbroederskerk Roermond Minderbroederssingel 15G Roermond 6041KG Nederland;X-APPLE-RADIUS=500;X-TITLE=Minderbroederssingel 15G:geo:5.986052,51.1915118
END:VEVENT
BEGIN:VEVENT
DTSTART;TZID=Europe/Amsterdam:20250917T130000
DTEND;TZID=Europe/Amsterdam:20250917T160000
DTSTAMP:20260422T021644
CREATED:20240530T142728Z
LAST-MODIFIED:20240530T142728Z
UID:18449-1758114000-1758124800@pg-roermond.nl
SUMMARY:Open Kerk
DESCRIPTION:
URL:https://pg-roermond.nl/evenement/open-kerk-6/2025-09-17/
LOCATION:Minderbroederskerk Roermond\, Minderbroederssingel 15G\, Roermond\, 6041KG\, Nederland
CATEGORIES:Open Kerk
GEO:51.1915118;5.986052
X-APPLE-STRUCTURED-LOCATION;VALUE=URI;X-ADDRESS=Minderbroederskerk Roermond Minderbroederssingel 15G Roermond 6041KG Nederland;X-APPLE-RADIUS=500;X-TITLE=Minderbroederssingel 15G:geo:5.986052,51.1915118
END:VEVENT
BEGIN:VEVENT
DTSTART;TZID=Europe/Amsterdam:20250921T100000
DTEND;TZID=Europe/Amsterdam:20250921T113000
DTSTAMP:20260422T021644
CREATED:20250713T091802Z
LAST-MODIFIED:20250713T091802Z
UID:22783-1758448800-1758454200@pg-roermond.nl
SUMMARY:Regiodienst in Weert + streamingdienst in Roermond
DESCRIPTION:
URL:https://pg-roermond.nl/evenement/regiodienst-in-weert-streamingdienst-in-roermond/
LOCATION:Minderbroederskerk Roermond\, Minderbroederssingel 15G\, Roermond\, 6041KG\, Nederland
CATEGORIES:Kerkdienst
GEO:51.1915118;5.986052
X-APPLE-STRUCTURED-LOCATION;VALUE=URI;X-ADDRESS=Minderbroederskerk Roermond Minderbroederssingel 15G Roermond 6041KG Nederland;X-APPLE-RADIUS=500;X-TITLE=Minderbroederssingel 15G:geo:5.986052,51.1915118
END:VEVENT
BEGIN:VEVENT
DTSTART;TZID=Europe/Amsterdam:20250924T130000
DTEND;TZID=Europe/Amsterdam:20250924T160000
DTSTAMP:20260422T021644
CREATED:20240530T142728Z
LAST-MODIFIED:20240530T142728Z
UID:18450-1758718800-1758729600@pg-roermond.nl
SUMMARY:Open Kerk
DESCRIPTION:
URL:https://pg-roermond.nl/evenement/open-kerk-6/2025-09-24/
LOCATION:Minderbroederskerk Roermond\, Minderbroederssingel 15G\, Roermond\, 6041KG\, Nederland
CATEGORIES:Open Kerk
GEO:51.1915118;5.986052
X-APPLE-STRUCTURED-LOCATION;VALUE=URI;X-ADDRESS=Minderbroederskerk Roermond Minderbroederssingel 15G Roermond 6041KG Nederland;X-APPLE-RADIUS=500;X-TITLE=Minderbroederssingel 15G:geo:5.986052,51.1915118
END:VEVENT
BEGIN:VEVENT
DTSTART;TZID=Europe/Amsterdam:20250928T100000
DTEND;TZID=Europe/Amsterdam:20250928T113000
DTSTAMP:20260422T021644
CREATED:20250713T091850Z
LAST-MODIFIED:20250818T151725Z
UID:22785-1759053600-1759059000@pg-roermond.nl
SUMMARY:Kerkdienst: drs. Marian Knetemann uit Antwerpen en afscheid ds.  Arie Poldervaart
DESCRIPTION:
URL:https://pg-roermond.nl/evenement/kerkdienst-drs-marian-knetemann-uit-antwerpen/
LOCATION:Minderbroederskerk Roermond\, Minderbroederssingel 15G\, Roermond\, 6041KG\, Nederland
CATEGORIES:Kerkdienst
GEO:51.1915118;5.986052
X-APPLE-STRUCTURED-LOCATION;VALUE=URI;X-ADDRESS=Minderbroederskerk Roermond Minderbroederssingel 15G Roermond 6041KG Nederland;X-APPLE-RADIUS=500;X-TITLE=Minderbroederssingel 15G:geo:5.986052,51.1915118
END:VEVENT
END:VCALENDAR