BEGIN:VCALENDAR
VERSION:2.0
PRODID:-//Protestantse Gemeente Roermond - ECPv6.15.20//NONSGML v1.0//EN
CALSCALE:GREGORIAN
METHOD:PUBLISH
X-ORIGINAL-URL:https://pg-roermond.nl
X-WR-CALDESC:Evenementen voor Protestantse Gemeente Roermond
REFRESH-INTERVAL;VALUE=DURATION:PT1H
X-Robots-Tag:noindex
X-PUBLISHED-TTL:PT1H
BEGIN:VTIMEZONE
TZID:Europe/Amsterdam
BEGIN:DAYLIGHT
TZOFFSETFROM:+0100
TZOFFSETTO:+0200
TZNAME:CEST
DTSTART:20210328T010000
END:DAYLIGHT
BEGIN:STANDARD
TZOFFSETFROM:+0200
TZOFFSETTO:+0100
TZNAME:CET
DTSTART:20211031T010000
END:STANDARD
BEGIN:DAYLIGHT
TZOFFSETFROM:+0100
TZOFFSETTO:+0200
TZNAME:CEST
DTSTART:20220327T010000
END:DAYLIGHT
BEGIN:STANDARD
TZOFFSETFROM:+0200
TZOFFSETTO:+0100
TZNAME:CET
DTSTART:20221030T010000
END:STANDARD
BEGIN:DAYLIGHT
TZOFFSETFROM:+0100
TZOFFSETTO:+0200
TZNAME:CEST
DTSTART:20230326T010000
END:DAYLIGHT
BEGIN:STANDARD
TZOFFSETFROM:+0200
TZOFFSETTO:+0100
TZNAME:CET
DTSTART:20231029T010000
END:STANDARD
BEGIN:DAYLIGHT
TZOFFSETFROM:+0100
TZOFFSETTO:+0200
TZNAME:CEST
DTSTART:20240331T010000
END:DAYLIGHT
BEGIN:STANDARD
TZOFFSETFROM:+0200
TZOFFSETTO:+0100
TZNAME:CET
DTSTART:20241027T010000
END:STANDARD
BEGIN:DAYLIGHT
TZOFFSETFROM:+0100
TZOFFSETTO:+0200
TZNAME:CEST
DTSTART:20250330T010000
END:DAYLIGHT
BEGIN:STANDARD
TZOFFSETFROM:+0200
TZOFFSETTO:+0100
TZNAME:CET
DTSTART:20251026T010000
END:STANDARD
END:VTIMEZONE
BEGIN:VEVENT
DTSTART;TZID=Europe/Amsterdam:20241109T080000
DTEND;TZID=Europe/Amsterdam:20241115T170000
DTSTAMP:20260423T232241
CREATED:20241109T112124Z
LAST-MODIFIED:20241109T112527Z
UID:20679-1731139200-1731690000@pg-roermond.nl
SUMMARY:
DESCRIPTION:Onthulling muurschildering Ontmoetingscentrum \nDe afgelopen weken heeft een kunstschilder een muurschildering gemaakt op de muur (huizenkant) van het Ontmoetingscentrum.  Op Burendag en bij Gluren bij de buren hebben velen uit de wijk\, en de dagen daarna geholpen met het werk in te kleuren. Een mooie beleving van samenwerking \nOp vrijdag 15 november wordt dit werk onthuld en dat zal gebeuren door de wethouder van Cultuur de heer F. van Ballegooijen. \nbent allen van harte uitgenodigd om dit mee te beleven onder genot van een hapje en een drankje van 14.00 tot 16.00 uur
URL:https://pg-roermond.nl/evenement/20679/
LOCATION:Minderbroederskerk Roermond\, Minderbroederssingel 15G\, Roermond\, 6041KG\, Nederland
CATEGORIES:Inspiratie & Ontmoeting,Opening
GEO:51.1915118;5.986052
X-APPLE-STRUCTURED-LOCATION;VALUE=URI;X-ADDRESS=Minderbroederskerk Roermond Minderbroederssingel 15G Roermond 6041KG Nederland;X-APPLE-RADIUS=500;X-TITLE=Minderbroederssingel 15G:geo:5.986052,51.1915118
END:VEVENT
BEGIN:VEVENT
DTSTART;TZID=Europe/Amsterdam:20230714T170000
DTEND;TZID=Europe/Amsterdam:20230714T190000
DTSTAMP:20260423T232241
CREATED:20230705T090258Z
LAST-MODIFIED:20230705T091716Z
UID:17066-1689354000-1689361200@pg-roermond.nl
SUMMARY:Ingebruikneming tuinproject ontmoetingscentrum met o.a. Misses Universe.
DESCRIPTION:
URL:https://pg-roermond.nl/evenement/ingebruikneming-tuinproject/
LOCATION:Ontmoetingscentrum\, Roermond\, Minderbroederssingel 15F\, Roermond\, 6041KG\, Nederland
CATEGORIES:Opening
GEO:51.1916734;5.985823
X-APPLE-STRUCTURED-LOCATION;VALUE=URI;X-ADDRESS=Ontmoetingscentrum Roermond Minderbroederssingel 15F Roermond 6041KG Nederland;X-APPLE-RADIUS=500;X-TITLE=Minderbroederssingel 15F:geo:5.985823,51.1916734
END:VEVENT
BEGIN:VEVENT
DTSTART;TZID=Europe/Amsterdam:20221118T160000
DTEND;TZID=Europe/Amsterdam:20221118T180000
DTSTAMP:20260423T232241
CREATED:20221103T145811Z
LAST-MODIFIED:20221103T145811Z
UID:15049-1668787200-1668794400@pg-roermond.nl
SUMMARY:Opening Ontmoetingscentrum
DESCRIPTION:Met blijdschap en dankbaarheid nodigen we u van harte uit voor de officiële opening van het vernieuwde Ontmoetingscentrum.
URL:https://pg-roermond.nl/evenement/opening-ontmoetingscentrum/
LOCATION:Ontmoetingscentrum\, Roermond\, Minderbroederssingel 15F\, Roermond\, 6041KG\, Nederland
CATEGORIES:Opening
ATTACH;FMTTYPE=image/png:https://pg-roermond.nl/wp-content/uploads/2022/08/Ontmoetingscentrum.png
GEO:51.1916734;5.985823
X-APPLE-STRUCTURED-LOCATION;VALUE=URI;X-ADDRESS=Ontmoetingscentrum Roermond Minderbroederssingel 15F Roermond 6041KG Nederland;X-APPLE-RADIUS=500;X-TITLE=Minderbroederssingel 15F:geo:5.985823,51.1916734
END:VEVENT
END:VCALENDAR