BEGIN:VCALENDAR
VERSION:2.0
PRODID:-//Protestantse Gemeente Roermond - ECPv6.15.20//NONSGML v1.0//EN
CALSCALE:GREGORIAN
METHOD:PUBLISH
X-ORIGINAL-URL:https://pg-roermond.nl
X-WR-CALDESC:Evenementen voor Protestantse Gemeente Roermond
REFRESH-INTERVAL;VALUE=DURATION:PT1H
X-Robots-Tag:noindex
X-PUBLISHED-TTL:PT1H
BEGIN:VTIMEZONE
TZID:Europe/Amsterdam
BEGIN:DAYLIGHT
TZOFFSETFROM:+0100
TZOFFSETTO:+0200
TZNAME:CEST
DTSTART:20200329T010000
END:DAYLIGHT
BEGIN:STANDARD
TZOFFSETFROM:+0200
TZOFFSETTO:+0100
TZNAME:CET
DTSTART:20201025T010000
END:STANDARD
BEGIN:DAYLIGHT
TZOFFSETFROM:+0100
TZOFFSETTO:+0200
TZNAME:CEST
DTSTART:20210328T010000
END:DAYLIGHT
BEGIN:STANDARD
TZOFFSETFROM:+0200
TZOFFSETTO:+0100
TZNAME:CET
DTSTART:20211031T010000
END:STANDARD
BEGIN:DAYLIGHT
TZOFFSETFROM:+0100
TZOFFSETTO:+0200
TZNAME:CEST
DTSTART:20220327T010000
END:DAYLIGHT
BEGIN:STANDARD
TZOFFSETFROM:+0200
TZOFFSETTO:+0100
TZNAME:CET
DTSTART:20221030T010000
END:STANDARD
BEGIN:DAYLIGHT
TZOFFSETFROM:+0100
TZOFFSETTO:+0200
TZNAME:CEST
DTSTART:20230326T010000
END:DAYLIGHT
BEGIN:STANDARD
TZOFFSETFROM:+0200
TZOFFSETTO:+0100
TZNAME:CET
DTSTART:20231029T010000
END:STANDARD
END:VTIMEZONE
BEGIN:VEVENT
DTSTART;TZID=Europe/Amsterdam:20220627T080000
DTEND;TZID=Europe/Amsterdam:20220627T170000
DTSTAMP:20260421T042904
CREATED:20220627T181645Z
LAST-MODIFIED:20220627T181645Z
UID:14343-1656316800-1656349200@pg-roermond.nl
SUMMARY:Verslag vergadering Kerkenraad ( 1 juni 2022)
DESCRIPTION:De kerkenraad is akkoord met het voorstel voor verdere intensivering van de samenwerking met de kerkgemeenten in Midden-Limburg . De gemeente zal op zondag 3 juli 2022 na de eredienst hierover verder geïnformeerd en gehoord worden.\nDe jaarrekening van de CvK is akkoord bevonden en zal 5 en 12 juni voor gemeenteleden ter inzage worden gelegd in de consistorie.\nDe onderwerpen voor het informatiemoment na de eredienst op 3 juli 2022 zijn vastgesteld: aanpassing Plaatselijke regeling\, toekomst Protestante Kerk Roermond en Ontmoetingscentrum.\nData voor moderamen/KR-vergadering 2022-2023 worden vastgesteld.\nKerkenraad heeft besloten om op 1 oktober 2022 een vrijwilligersmiddag te organiseren.\nVanwege gebrek aan ambtsdragers zal er vanaf f 1 juli 2022  nog maar één ambtsdrager aanwezig zijn tijdens de eredienst\, welke tevens ook 1e collectant is.
URL:https://pg-roermond.nl/evenement/verslag-vergadering-kerkenraad-1-juni-2022/
LOCATION:Minderbroederskerk Roermond\, Minderbroederssingel 15G\, Roermond\, 6041KG\, Nederland
CATEGORIES:Kerkenraad
ATTACH;FMTTYPE=image/jpeg:https://pg-roermond.nl/wp-content/uploads/2019/01/notulen.001.jpeg
GEO:51.1915118;5.986052
X-APPLE-STRUCTURED-LOCATION;VALUE=URI;X-ADDRESS=Minderbroederskerk Roermond Minderbroederssingel 15G Roermond 6041KG Nederland;X-APPLE-RADIUS=500;X-TITLE=Minderbroederssingel 15G:geo:5.986052,51.1915118
END:VEVENT
BEGIN:VEVENT
DTSTART;TZID=Europe/Amsterdam:20211019T193000
DTEND;TZID=Europe/Amsterdam:20211019T210000
DTSTAMP:20260421T042904
CREATED:20210920T093604Z
LAST-MODIFIED:20211008T154632Z
UID:12288-1634671800-1634677200@pg-roermond.nl
SUMMARY:Gemeenteavond
DESCRIPTION:Op dinsdag 19 oktober komen we als gemeente weer bij elkaar voor de jaarlijkse gemeenteavond. Op deze avond is er uitgebreid gelegenheid om in gesprek te gaan\, vragen te stellen en u te informeren over allerhande zaken vanuit onze kerkgemeenschap en de kerkenraad.\nTussendoor laat de ZWO groep beelden zien van hun bezoek aan Göncruszka\, Hongarije en vertelt de werkgroep OC over de verkenning en plannen met het OC. \nVan harte welkom: Samen zijn we kerk! \nDatum: 19 oktober 2021\nTijd: 19:30 uur\nPlaats: Ontmoetingscentrum
URL:https://pg-roermond.nl/evenement/gemeenteavond-4/
LOCATION:Minderbroederskerk Roermond\, Minderbroederssingel 15G\, Roermond\, 6041KG\, Nederland
CATEGORIES:Inspiratie & Ontmoeting,Kerkenraad
ATTACH;FMTTYPE=image/jpeg:https://pg-roermond.nl/wp-content/uploads/2018/03/IMG_20200913_104244-scaled.jpg
GEO:51.1915118;5.986052
X-APPLE-STRUCTURED-LOCATION;VALUE=URI;X-ADDRESS=Minderbroederskerk Roermond Minderbroederssingel 15G Roermond 6041KG Nederland;X-APPLE-RADIUS=500;X-TITLE=Minderbroederssingel 15G:geo:5.986052,51.1915118
END:VEVENT
END:VCALENDAR