BEGIN:VCALENDAR
VERSION:2.0
PRODID:-//Protestantse Gemeente Roermond - ECPv6.15.20//NONSGML v1.0//EN
CALSCALE:GREGORIAN
METHOD:PUBLISH
X-WR-CALNAME:Protestantse Gemeente Roermond
X-ORIGINAL-URL:https://pg-roermond.nl
X-WR-CALDESC:Evenementen voor Protestantse Gemeente Roermond
REFRESH-INTERVAL;VALUE=DURATION:PT1H
X-Robots-Tag:noindex
X-PUBLISHED-TTL:PT1H
BEGIN:VTIMEZONE
TZID:Europe/Amsterdam
BEGIN:DAYLIGHT
TZOFFSETFROM:+0100
TZOFFSETTO:+0200
TZNAME:CEST
DTSTART:20200329T010000
END:DAYLIGHT
BEGIN:STANDARD
TZOFFSETFROM:+0200
TZOFFSETTO:+0100
TZNAME:CET
DTSTART:20201025T010000
END:STANDARD
BEGIN:DAYLIGHT
TZOFFSETFROM:+0100
TZOFFSETTO:+0200
TZNAME:CEST
DTSTART:20210328T010000
END:DAYLIGHT
BEGIN:STANDARD
TZOFFSETFROM:+0200
TZOFFSETTO:+0100
TZNAME:CET
DTSTART:20211031T010000
END:STANDARD
BEGIN:DAYLIGHT
TZOFFSETFROM:+0100
TZOFFSETTO:+0200
TZNAME:CEST
DTSTART:20220327T010000
END:DAYLIGHT
BEGIN:STANDARD
TZOFFSETFROM:+0200
TZOFFSETTO:+0100
TZNAME:CET
DTSTART:20221030T010000
END:STANDARD
BEGIN:DAYLIGHT
TZOFFSETFROM:+0100
TZOFFSETTO:+0200
TZNAME:CEST
DTSTART:20230326T010000
END:DAYLIGHT
BEGIN:STANDARD
TZOFFSETFROM:+0200
TZOFFSETTO:+0100
TZNAME:CET
DTSTART:20231029T010000
END:STANDARD
END:VTIMEZONE
BEGIN:VEVENT
DTSTART;TZID=Europe/Amsterdam:20220930T093000
DTEND;TZID=Europe/Amsterdam:20220930T153000
DTSTAMP:20260421T202332
CREATED:20220901T185019Z
LAST-MODIFIED:20220901T185019Z
UID:14807-1664530200-1664551800@pg-roermond.nl
SUMMARY:Euregionale Oecumenische Conferentie
DESCRIPTION:Thema van deze conferentie is: Matigen\, een weg naar meer gerechtigheid en tevredenheid? Een aantal vragen rondom dit thema komen aan de orde en worden besproken in 6 werkgroepen.
URL:https://pg-roermond.nl/evenement/euregionale-oecumenische-conferentie/
LOCATION:Rotenberg 35 Eupen\, Rotenberg 35\, Eupen\, 4700\, België
CATEGORIES:Internationaal
ATTACH;FMTTYPE=image/jpeg:https://pg-roermond.nl/wp-content/uploads/2022/09/appel-water.jpg
END:VEVENT
BEGIN:VEVENT
DTSTART;TZID=Europe/Amsterdam:20211212T190000
DTEND;TZID=Europe/Amsterdam:20211212T200000
DTSTAMP:20260421T202332
CREATED:20211122T100159Z
LAST-MODIFIED:20211126T162052Z
UID:12660-1639335600-1639339200@pg-roermond.nl
SUMMARY:Afgelast: Drielandendienst (verschillende voorgangers)
DESCRIPTION:Ds. Judith van den Berg\, dhr. Horst Müller\, dhr. Marc Jankowski \n\nLees hier meer over onze coronamaatregelen. \nDeze dienst is ook online te volgen via de livestream.
URL:https://pg-roermond.nl/evenement/drielandendienst-verschillende-voorgangers-2/
LOCATION:Minderbroederskerk Roermond\, Minderbroederssingel 15G\, Roermond\, 6041KG\, Nederland
CATEGORIES:Internationaal,Kerkdienst
ATTACH;FMTTYPE=image/jpeg:https://pg-roermond.nl/wp-content/uploads/2019/03/3landendienst.jpg
GEO:51.1915118;5.986052
X-APPLE-STRUCTURED-LOCATION;VALUE=URI;X-ADDRESS=Minderbroederskerk Roermond Minderbroederssingel 15G Roermond 6041KG Nederland;X-APPLE-RADIUS=500;X-TITLE=Minderbroederssingel 15G:geo:5.986052,51.1915118
END:VEVENT
END:VCALENDAR