BEGIN:VCALENDAR
VERSION:2.0
PRODID:-//Protestantse Gemeente Roermond - ECPv6.15.20//NONSGML v1.0//EN
CALSCALE:GREGORIAN
METHOD:PUBLISH
X-ORIGINAL-URL:https://pg-roermond.nl
X-WR-CALDESC:Evenementen voor Protestantse Gemeente Roermond
REFRESH-INTERVAL;VALUE=DURATION:PT1H
X-Robots-Tag:noindex
X-PUBLISHED-TTL:PT1H
BEGIN:VTIMEZONE
TZID:Europe/Amsterdam
BEGIN:DAYLIGHT
TZOFFSETFROM:+0100
TZOFFSETTO:+0200
TZNAME:CEST
DTSTART:20210328T010000
END:DAYLIGHT
BEGIN:STANDARD
TZOFFSETFROM:+0200
TZOFFSETTO:+0100
TZNAME:CET
DTSTART:20211031T010000
END:STANDARD
BEGIN:DAYLIGHT
TZOFFSETFROM:+0100
TZOFFSETTO:+0200
TZNAME:CEST
DTSTART:20220327T010000
END:DAYLIGHT
BEGIN:STANDARD
TZOFFSETFROM:+0200
TZOFFSETTO:+0100
TZNAME:CET
DTSTART:20221030T010000
END:STANDARD
BEGIN:DAYLIGHT
TZOFFSETFROM:+0100
TZOFFSETTO:+0200
TZNAME:CEST
DTSTART:20230326T010000
END:DAYLIGHT
BEGIN:STANDARD
TZOFFSETFROM:+0200
TZOFFSETTO:+0100
TZNAME:CET
DTSTART:20231029T010000
END:STANDARD
END:VTIMEZONE
BEGIN:VEVENT
DTSTART;TZID=Europe/Amsterdam:20220309T144500
DTEND;TZID=Europe/Amsterdam:20220309T154500
DTSTAMP:20260426T002218
CREATED:20220311T144902Z
LAST-MODIFIED:20220311T144902Z
UID:13774-1646837100-1646840700@pg-roermond.nl
SUMMARY:Stuif-in (jong)
DESCRIPTION:Bijgaand de nieuwe datums voor de stuif in jong 14.45 tot 15.45 uur \n9 maart in Maasbracht\n6 april in kerk in Roermond\n18 mei in Maasbracht
URL:https://pg-roermond.nl/evenement/stuif-in-jong/2022-03-09/
LOCATION:Verschillende locaties
CATEGORIES:Jeugdwerk
ATTACH;FMTTYPE=image/jpeg:https://pg-roermond.nl/wp-content/uploads/2019/09/stuif-in.jpg
END:VEVENT
END:VCALENDAR