BEGIN:VCALENDAR
VERSION:2.0
PRODID:-//Protestantse Gemeente Roermond - ECPv6.15.20//NONSGML v1.0//EN
CALSCALE:GREGORIAN
METHOD:PUBLISH
X-ORIGINAL-URL:https://pg-roermond.nl
X-WR-CALDESC:Evenementen voor Protestantse Gemeente Roermond
REFRESH-INTERVAL;VALUE=DURATION:PT1H
X-Robots-Tag:noindex
X-PUBLISHED-TTL:PT1H
BEGIN:VTIMEZONE
TZID:Europe/Amsterdam
BEGIN:DAYLIGHT
TZOFFSETFROM:+0100
TZOFFSETTO:+0200
TZNAME:CEST
DTSTART:20220327T010000
END:DAYLIGHT
BEGIN:STANDARD
TZOFFSETFROM:+0200
TZOFFSETTO:+0100
TZNAME:CET
DTSTART:20221030T010000
END:STANDARD
BEGIN:DAYLIGHT
TZOFFSETFROM:+0100
TZOFFSETTO:+0200
TZNAME:CEST
DTSTART:20230326T010000
END:DAYLIGHT
BEGIN:STANDARD
TZOFFSETFROM:+0200
TZOFFSETTO:+0100
TZNAME:CET
DTSTART:20231029T010000
END:STANDARD
BEGIN:DAYLIGHT
TZOFFSETFROM:+0100
TZOFFSETTO:+0200
TZNAME:CEST
DTSTART:20240331T010000
END:DAYLIGHT
BEGIN:STANDARD
TZOFFSETFROM:+0200
TZOFFSETTO:+0100
TZNAME:CET
DTSTART:20241027T010000
END:STANDARD
END:VTIMEZONE
BEGIN:VEVENT
DTSTART;TZID=Europe/Amsterdam:20230909T100000
DTEND;TZID=Europe/Amsterdam:20230909T170000
DTSTAMP:20260425T143519
CREATED:20230830T125656Z
LAST-MODIFIED:20230830T125656Z
UID:17288-1694253600-1694278800@pg-roermond.nl
SUMMARY:Open Monumentendag / Orgeldagen
DESCRIPTION:In het weekend van 9 en 10 september is het Monumentenweekend en vinden de Orgeldagen plaats.
URL:https://pg-roermond.nl/evenement/open-monumentendag-orgeldagen/2023-09-09/
LOCATION:Minderbroederskerk Roermond\, Minderbroederssingel 15G\, Roermond\, 6041KG\, Nederland
CATEGORIES:Open Monumentendag
ATTACH;FMTTYPE=image/png:https://pg-roermond.nl/wp-content/uploads/2023/08/monumentendag.png
GEO:51.1915118;5.986052
X-APPLE-STRUCTURED-LOCATION;VALUE=URI;X-ADDRESS=Minderbroederskerk Roermond Minderbroederssingel 15G Roermond 6041KG Nederland;X-APPLE-RADIUS=500;X-TITLE=Minderbroederssingel 15G:geo:5.986052,51.1915118
END:VEVENT
END:VCALENDAR