BEGIN:VCALENDAR
VERSION:2.0
PRODID:-//Protestantse Gemeente Roermond - ECPv6.15.20//NONSGML v1.0//EN
CALSCALE:GREGORIAN
METHOD:PUBLISH
X-WR-CALNAME:Protestantse Gemeente Roermond
X-ORIGINAL-URL:https://pg-roermond.nl
X-WR-CALDESC:Evenementen voor Protestantse Gemeente Roermond
REFRESH-INTERVAL;VALUE=DURATION:PT1H
X-Robots-Tag:noindex
X-PUBLISHED-TTL:PT1H
BEGIN:VTIMEZONE
TZID:Europe/Amsterdam
BEGIN:DAYLIGHT
TZOFFSETFROM:+0100
TZOFFSETTO:+0200
TZNAME:CEST
DTSTART:20220327T010000
END:DAYLIGHT
BEGIN:STANDARD
TZOFFSETFROM:+0200
TZOFFSETTO:+0100
TZNAME:CET
DTSTART:20221030T010000
END:STANDARD
BEGIN:DAYLIGHT
TZOFFSETFROM:+0100
TZOFFSETTO:+0200
TZNAME:CEST
DTSTART:20230326T010000
END:DAYLIGHT
BEGIN:STANDARD
TZOFFSETFROM:+0200
TZOFFSETTO:+0100
TZNAME:CET
DTSTART:20231029T010000
END:STANDARD
BEGIN:DAYLIGHT
TZOFFSETFROM:+0100
TZOFFSETTO:+0200
TZNAME:CEST
DTSTART:20240331T010000
END:DAYLIGHT
BEGIN:STANDARD
TZOFFSETFROM:+0200
TZOFFSETTO:+0100
TZNAME:CET
DTSTART:20241027T010000
END:STANDARD
END:VTIMEZONE
BEGIN:VEVENT
DTSTART;TZID=Europe/Amsterdam:20231117T100000
DTEND;TZID=Europe/Amsterdam:20231117T160000
DTSTAMP:20260425T143836
CREATED:20231102T134033Z
LAST-MODIFIED:20231102T134553Z
UID:17446-1700215200-1700236800@pg-roermond.nl
SUMMARY:Extra Boekenmarkt in de Ursulakapel
DESCRIPTION:Extra boekenmarkt in de Ursulakapel aan de Voogdijstraat in Roermond.
URL:https://pg-roermond.nl/evenement/extra-boekenmarkt-in-de-ursulakapel/2023-11-17/
LOCATION:Ursulakapel\, Voogdijstraat 24\, Roermond\, 6041 GD\, Nederland
CATEGORIES:Boekenmarkt
ATTACH;FMTTYPE=image/jpeg:https://pg-roermond.nl/wp-content/uploads/2023/11/1c4e20e7-2995-ea19-5891-acaeb99e69ae.jpg
GEO:51.1957955;5.9911298
X-APPLE-STRUCTURED-LOCATION;VALUE=URI;X-ADDRESS=Ursulakapel Voogdijstraat 24 Roermond 6041 GD Nederland;X-APPLE-RADIUS=500;X-TITLE=Voogdijstraat 24:geo:5.9911298,51.1957955
END:VEVENT
END:VCALENDAR